BEGIN:VCALENDAR
VERSION:2.0
PRODID:-// - ECPv6.15.20//NONSGML v1.0//EN
CALSCALE:GREGORIAN
METHOD:PUBLISH
X-ORIGINAL-URL:https://www.allenschapelmbc.com
X-WR-CALDESC:Events for 
REFRESH-INTERVAL;VALUE=DURATION:PT1H
X-Robots-Tag:noindex
X-PUBLISHED-TTL:PT1H
BEGIN:VTIMEZONE
TZID:America/New_York
BEGIN:DAYLIGHT
TZOFFSETFROM:-0500
TZOFFSETTO:-0400
TZNAME:EDT
DTSTART:20250309T070000
END:DAYLIGHT
BEGIN:STANDARD
TZOFFSETFROM:-0400
TZOFFSETTO:-0500
TZNAME:EST
DTSTART:20251102T060000
END:STANDARD
BEGIN:DAYLIGHT
TZOFFSETFROM:-0500
TZOFFSETTO:-0400
TZNAME:EDT
DTSTART:20260308T070000
END:DAYLIGHT
BEGIN:STANDARD
TZOFFSETFROM:-0400
TZOFFSETTO:-0500
TZNAME:EST
DTSTART:20261101T060000
END:STANDARD
BEGIN:DAYLIGHT
TZOFFSETFROM:-0500
TZOFFSETTO:-0400
TZNAME:EDT
DTSTART:20270314T070000
END:DAYLIGHT
BEGIN:STANDARD
TZOFFSETFROM:-0400
TZOFFSETTO:-0500
TZNAME:EST
DTSTART:20271107T060000
END:STANDARD
END:VTIMEZONE
BEGIN:VEVENT
DTSTART;VALUE=DATE:20260111
DTEND;VALUE=DATE:20260401
DTSTAMP:20260423T193927
CREATED:20260111T222246Z
LAST-MODIFIED:20260120T034505Z
UID:4233-1768089600-1775001599@www.allenschapelmbc.com
SUMMARY:Seeking Pastor
DESCRIPTION:We are currently looking for a pastor to lead our congregation. If interested in applying please click here for job description and application details.
URL:https://www.allenschapelmbc.com/event/seeking-pastor/
END:VEVENT
BEGIN:VEVENT
DTSTART;TZID=America/New_York:20260118T100000
DTEND;TZID=America/New_York:20260118T100000
DTSTAMP:20260423T193927
CREATED:20260106T160421Z
LAST-MODIFIED:20260106T170329Z
UID:4200-1768730400-1768730400@www.allenschapelmbc.com
SUMMARY:Martin Luther King Jr. Day
DESCRIPTION:Celebrating Dr. Martin Luther King Jr.’s Birthday
URL:https://www.allenschapelmbc.com/event/martin-luther-king-jr-day/
END:VEVENT
BEGIN:VEVENT
DTSTART;VALUE=DATE:20260201
DTEND;VALUE=DATE:20260223
DTSTAMP:20260423T193927
CREATED:20260106T161527Z
LAST-MODIFIED:20260106T170348Z
UID:4202-1769904000-1771804799@www.allenschapelmbc.com
SUMMARY:Celebrating Black History
DESCRIPTION:Members are encouraged to wear African attire each Sunday if they choose and each Sunday a youth will do a moment in black history. \nOn 3rd Sunday we will be having a soul food dinner with members bringing their favorite dish.
URL:https://www.allenschapelmbc.com/event/celebrating-black-history/
END:VEVENT
BEGIN:VEVENT
DTSTART;TZID=America/New_York:20260405T100000
DTEND;TZID=America/New_York:20260405T100000
DTSTAMP:20260423T193927
CREATED:20201102T032432Z
LAST-MODIFIED:20260106T170259Z
UID:2044-1775383200-1775383200@www.allenschapelmbc.com
SUMMARY:Easter Sunday
DESCRIPTION:Celebrating Easter Sunday. Happy Resurrection Day!
URL:https://www.allenschapelmbc.com/event/happy-thanksgiving/
END:VEVENT
BEGIN:VEVENT
DTSTART;VALUE=DATE:20260503
DTEND;VALUE=DATE:20260504
DTSTAMP:20260423T193927
CREATED:20210426T211717Z
LAST-MODIFIED:20260106T163545Z
UID:2060-1777766400-1777852799@www.allenschapelmbc.com
SUMMARY:Homecoming
DESCRIPTION:Homecoming will be first Sunday in May
URL:https://www.allenschapelmbc.com/event/happy-135th-church-anniversary/
END:VEVENT
BEGIN:VEVENT
DTSTART;VALUE=DATE:20260510
DTEND;VALUE=DATE:20260511
DTSTAMP:20260423T193927
CREATED:20210504T215511Z
LAST-MODIFIED:20260106T163752Z
UID:2066-1778371200-1778457599@www.allenschapelmbc.com
SUMMARY:Mother's Day
DESCRIPTION:We will be celebrating Mother’s Day
URL:https://www.allenschapelmbc.com/event/happy-mothers-day/
END:VEVENT
BEGIN:VEVENT
DTSTART;TZID=America/New_York:20260517T100000
DTEND;TZID=America/New_York:20260517T100000
DTSTAMP:20260423T193927
CREATED:20220702T225735Z
LAST-MODIFIED:20260106T170223Z
UID:3049-1779012000-1779012000@www.allenschapelmbc.com
SUMMARY:Memorial Day
DESCRIPTION:We will be celebrating Memorial Day
URL:https://www.allenschapelmbc.com/event/memorial-service/
END:VEVENT
BEGIN:VEVENT
DTSTART;TZID=America/New_York:20260614T100000
DTEND;TZID=America/New_York:20260614T100000
DTSTAMP:20260423T193927
CREATED:20260106T164122Z
LAST-MODIFIED:20260106T170124Z
UID:4219-1781431200-1781431200@www.allenschapelmbc.com
SUMMARY:Juneteenth
DESCRIPTION:We will be recognizing Juneteenth
URL:https://www.allenschapelmbc.com/event/juneteenth/
END:VEVENT
BEGIN:VEVENT
DTSTART;TZID=America/New_York:20260621T100000
DTEND;TZID=America/New_York:20260621T100000
DTSTAMP:20260423T193927
CREATED:20260106T164255Z
LAST-MODIFIED:20260106T170043Z
UID:4221-1782036000-1782036000@www.allenschapelmbc.com
SUMMARY:Father's Day
DESCRIPTION:We will be celebrating Father’s day
URL:https://www.allenschapelmbc.com/event/fathers-day/
END:VEVENT
END:VCALENDAR