BEGIN:VCALENDAR
VERSION:2.0
PRODID:-// - ECPv6.15.20//NONSGML v1.0//EN
CALSCALE:GREGORIAN
METHOD:PUBLISH
X-ORIGINAL-URL:https://www.allenschapelmbc.com
X-WR-CALDESC:Events for 
REFRESH-INTERVAL;VALUE=DURATION:PT1H
X-Robots-Tag:noindex
X-PUBLISHED-TTL:PT1H
BEGIN:VTIMEZONE
TZID:America/New_York
BEGIN:DAYLIGHT
TZOFFSETFROM:-0500
TZOFFSETTO:-0400
TZNAME:EDT
DTSTART:20230312T070000
END:DAYLIGHT
BEGIN:STANDARD
TZOFFSETFROM:-0400
TZOFFSETTO:-0500
TZNAME:EST
DTSTART:20231105T060000
END:STANDARD
BEGIN:DAYLIGHT
TZOFFSETFROM:-0500
TZOFFSETTO:-0400
TZNAME:EDT
DTSTART:20240310T070000
END:DAYLIGHT
BEGIN:STANDARD
TZOFFSETFROM:-0400
TZOFFSETTO:-0500
TZNAME:EST
DTSTART:20241103T060000
END:STANDARD
BEGIN:DAYLIGHT
TZOFFSETFROM:-0500
TZOFFSETTO:-0400
TZNAME:EDT
DTSTART:20250309T070000
END:DAYLIGHT
BEGIN:STANDARD
TZOFFSETFROM:-0400
TZOFFSETTO:-0500
TZNAME:EST
DTSTART:20251102T060000
END:STANDARD
BEGIN:DAYLIGHT
TZOFFSETFROM:-0500
TZOFFSETTO:-0400
TZNAME:EDT
DTSTART:20260308T070000
END:DAYLIGHT
BEGIN:STANDARD
TZOFFSETFROM:-0400
TZOFFSETTO:-0500
TZNAME:EST
DTSTART:20261101T060000
END:STANDARD
BEGIN:DAYLIGHT
TZOFFSETFROM:-0500
TZOFFSETTO:-0400
TZNAME:EDT
DTSTART:20270314T070000
END:DAYLIGHT
BEGIN:STANDARD
TZOFFSETFROM:-0400
TZOFFSETTO:-0500
TZNAME:EST
DTSTART:20271107T060000
END:STANDARD
END:VTIMEZONE
BEGIN:VTIMEZONE
TZID:UTC
BEGIN:STANDARD
TZOFFSETFROM:+0000
TZOFFSETTO:+0000
TZNAME:UTC
DTSTART:20240101T000000
END:STANDARD
END:VTIMEZONE
BEGIN:VEVENT
DTSTART;TZID=America/New_York:20260405T100000
DTEND;TZID=America/New_York:20260405T100000
DTSTAMP:20260423T195326
CREATED:20201102T032432Z
LAST-MODIFIED:20260106T170259Z
UID:2044-1775383200-1775383200@www.allenschapelmbc.com
SUMMARY:Easter Sunday
DESCRIPTION:Celebrating Easter Sunday. Happy Resurrection Day!
URL:https://www.allenschapelmbc.com/event/happy-thanksgiving/
END:VEVENT
BEGIN:VEVENT
DTSTART;VALUE=DATE:20260201
DTEND;VALUE=DATE:20260223
DTSTAMP:20260423T195326
CREATED:20260106T161527Z
LAST-MODIFIED:20260106T170348Z
UID:4202-1769904000-1771804799@www.allenschapelmbc.com
SUMMARY:Celebrating Black History
DESCRIPTION:Members are encouraged to wear African attire each Sunday if they choose and each Sunday a youth will do a moment in black history. \nOn 3rd Sunday we will be having a soul food dinner with members bringing their favorite dish.
URL:https://www.allenschapelmbc.com/event/celebrating-black-history/
END:VEVENT
BEGIN:VEVENT
DTSTART;TZID=America/New_York:20260118T100000
DTEND;TZID=America/New_York:20260118T100000
DTSTAMP:20260423T195326
CREATED:20260106T160421Z
LAST-MODIFIED:20260106T170329Z
UID:4200-1768730400-1768730400@www.allenschapelmbc.com
SUMMARY:Martin Luther King Jr. Day
DESCRIPTION:Celebrating Dr. Martin Luther King Jr.’s Birthday
URL:https://www.allenschapelmbc.com/event/martin-luther-king-jr-day/
END:VEVENT
BEGIN:VEVENT
DTSTART;VALUE=DATE:20260111
DTEND;VALUE=DATE:20260401
DTSTAMP:20260423T195326
CREATED:20260111T222246Z
LAST-MODIFIED:20260120T034505Z
UID:4233-1768089600-1775001599@www.allenschapelmbc.com
SUMMARY:Seeking Pastor
DESCRIPTION:We are currently looking for a pastor to lead our congregation. If interested in applying please click here for job description and application details.
URL:https://www.allenschapelmbc.com/event/seeking-pastor/
END:VEVENT
BEGIN:VEVENT
DTSTART;TZID=UTC:20251221T110000
DTEND;TZID=UTC:20251221T110000
DTSTAMP:20260423T195326
CREATED:20191113T083237Z
LAST-MODIFIED:20251219T051307Z
UID:1810-1766314800-1766314800@www.allenschapelmbc.com
SUMMARY:Christmas Dinner
DESCRIPTION:Our annual church Christmas dinner will be Sunday\, December 21\, 2025 following morning worship service.
URL:https://www.allenschapelmbc.com/event/christmas-cantana/
END:VEVENT
BEGIN:VEVENT
DTSTART;TZID=UTC:20251109T100000
DTEND;TZID=UTC:20251109T100000
DTSTAMP:20260423T195326
CREATED:20191003T045425Z
LAST-MODIFIED:20251017T213753Z
UID:1452-1762682400-1762682400@www.allenschapelmbc.com
SUMMARY:Missionary Anniversary
DESCRIPTION:We will be celebrating our Missionary Anniversary on Sunday\, November 9th during our morning worship service. Reverend Sheila Currie Stokes will be our guest clergy for this joyful occasion. Women will be asked to wear black.
URL:https://www.allenschapelmbc.com/event/missionary-ministry-anniversary/
END:VEVENT
BEGIN:VEVENT
DTSTART;TZID=UTC:20251019T100000
DTEND;TZID=UTC:20251019T100000
DTSTAMP:20260423T195326
CREATED:20190912T052404Z
LAST-MODIFIED:20250823T220232Z
UID:1264-1760868000-1760868000@www.allenschapelmbc.com
SUMMARY:139th Church Anniversary
DESCRIPTION:We will be celebrating our Church Anniversary on Sunday\, October 19th during our Morning Worship Service.
URL:https://www.allenschapelmbc.com/event/blabla/
END:VEVENT
BEGIN:VEVENT
DTSTART;TZID=America/New_York:20251018T120000
DTEND;TZID=America/New_York:20251018T150000
DTSTAMP:20260423T195326
CREATED:20250823T222519Z
LAST-MODIFIED:20250823T222519Z
UID:4159-1760788800-1760799600@www.allenschapelmbc.com
SUMMARY:Church Anniversary Pre-Celebration
DESCRIPTION:Fish fry\, hot dogs\, board games\, raffles\, and prizes.
URL:https://www.allenschapelmbc.com/event/church-anniversary-pre-celebration/
END:VEVENT
BEGIN:VEVENT
DTSTART;TZID=America/New_York:20251012T100000
DTEND;TZID=America/New_York:20251012T100000
DTSTAMP:20260423T195326
CREATED:20250823T220456Z
LAST-MODIFIED:20250823T220456Z
UID:4155-1760263200-1760263200@www.allenschapelmbc.com
SUMMARY:Clergy Appreciation
DESCRIPTION:
URL:https://www.allenschapelmbc.com/event/clergy-appreciation/
END:VEVENT
BEGIN:VEVENT
DTSTART;TZID=America/New_York:20251005T100000
DTEND;TZID=America/New_York:20251005T100000
DTSTAMP:20260423T195326
CREATED:20250823T221028Z
LAST-MODIFIED:20250823T221028Z
UID:4157-1759658400-1759658400@www.allenschapelmbc.com
SUMMARY:Breast Cancer Awareness Month
DESCRIPTION:
URL:https://www.allenschapelmbc.com/event/breast-cancer-awareness-month/
END:VEVENT
BEGIN:VEVENT
DTSTART;TZID=America/New_York:20250601T100000
DTEND;TZID=America/New_York:20250601T100000
DTSTAMP:20260423T195326
CREATED:20250520T043231Z
LAST-MODIFIED:20250520T043346Z
UID:4149-1748772000-1748772000@www.allenschapelmbc.com
SUMMARY:Men's Day
DESCRIPTION:We will be celebrating Men’s Day on Sunday\, June 1 during morning worship service.
URL:https://www.allenschapelmbc.com/event/mens-day/
END:VEVENT
BEGIN:VEVENT
DTSTART;TZID=America/New_York:20250406T103000
DTEND;TZID=America/New_York:20250406T103000
DTSTAMP:20260423T195326
CREATED:20200217T223000Z
LAST-MODIFIED:20250307T053114Z
UID:1873-1743935400-1743935400@www.allenschapelmbc.com
SUMMARY:Annual Women's Day Service
DESCRIPTION:Our annual Women’s Day service themed “Women Connecting” will be Sunday April 6th during morning worship service. Reverend Angela Richmond will be bringing us the word on this glorious day. All women are asked to wear white\, and all members (women & men) are asked to pay $25.
URL:https://www.allenschapelmbc.com/event/annual-womens-day-celebration/
END:VEVENT
BEGIN:VEVENT
DTSTART;TZID=America/New_York:20250330T103000
DTEND;TZID=America/New_York:20250330T103000
DTSTAMP:20260423T195326
CREATED:20250307T050710Z
LAST-MODIFIED:20250307T053156Z
UID:4110-1743330600-1743330600@www.allenschapelmbc.com
SUMMARY:Hotdog Sale
DESCRIPTION:The Pastor’s Aide ministry will be having a hotdog sale on Sunday\, March 30th following morning worship.
URL:https://www.allenschapelmbc.com/event/hotdog-sale/
END:VEVENT
BEGIN:VEVENT
DTSTART;TZID=America/New_York:20241012T100000
DTEND;TZID=America/New_York:20241012T100000
DTSTAMP:20260423T195326
CREATED:20240828T195518Z
LAST-MODIFIED:20240828T203906Z
UID:4036-1728727200-1728727200@www.allenschapelmbc.com
SUMMARY:Prayer Brunch
DESCRIPTION:The Pastor’s Aid will be hosting their Prayer Brunch Power of Prayer Program on Saturday\, October 12\, 2024 at 10:00am.
URL:https://www.allenschapelmbc.com/event/prayer-brunch/
END:VEVENT
BEGIN:VEVENT
DTSTART;VALUE=DATE:20240601
DTEND;VALUE=DATE:20250101
DTSTAMP:20260423T195326
CREATED:20240601T204711Z
LAST-MODIFIED:20250307T050317Z
UID:3728-1717200000-1735689599@www.allenschapelmbc.com
SUMMARY:Piano Player Wanted
DESCRIPTION:We are seeking a talented and dedicated piano player to join our worship team. The position requires availability for every Sunday service\, except the fourth Sunday of each month. \nResponsibilities: \n\nProvide musical accompaniment for Sunday worship services\nCollaborate with the worship team to enhance the overall worship experience\nAttend rehearsals as needed\n\nIf you feel called to share your musical gifts with our congregation\, please contact us 336-562-5484. We look forward to welcoming you to our church family!
URL:https://www.allenschapelmbc.com/event/piano-player-wanted-for-church-services/
END:VEVENT
BEGIN:VEVENT
DTSTART;TZID=America/New_York:20240413T103000
DTEND;TZID=America/New_York:20240413T103000
DTSTAMP:20260423T195326
CREATED:20200217T223552Z
LAST-MODIFIED:20250401T000013Z
UID:1876-1713004200-1713004200@www.allenschapelmbc.com
SUMMARY:7th Pastoral Anniversary
DESCRIPTION:We will be celebrating Pastor Jerald and Lady Christine Brown’s 7th Pastoral Anniversary.
URL:https://www.allenschapelmbc.com/event/2nd-pastoral-anniversary/
END:VEVENT
BEGIN:VEVENT
DTSTART;VALUE=DATE:20240327
DTEND;VALUE=DATE:20240328
DTSTAMP:20260423T195326
CREATED:20191225T023048Z
LAST-MODIFIED:20240307T021000Z
UID:1859-1711497600-1711583999@www.allenschapelmbc.com
SUMMARY:Passion Week Service
DESCRIPTION:Our very own Pastor Jerald Brown will be bringing the word on Wednesday\, March 27th at Lee’s Chapel Missionary Baptist Church in Cedar Grove\, North Carolina. \n\n 
URL:https://www.allenschapelmbc.com/event/the-home-going-services-for-our-beloved-deacon-george-lex-woods-sr/
END:VEVENT
END:VCALENDAR