BEGIN:VCALENDAR
VERSION:2.0
PRODID:-// - ECPv6.15.20//NONSGML v1.0//EN
CALSCALE:GREGORIAN
METHOD:PUBLISH
X-ORIGINAL-URL:https://www.allenschapelmbc.com
X-WR-CALDESC:Events for 
REFRESH-INTERVAL;VALUE=DURATION:PT1H
X-Robots-Tag:noindex
X-PUBLISHED-TTL:PT1H
BEGIN:VTIMEZONE
TZID:UTC
BEGIN:STANDARD
TZOFFSETFROM:+0000
TZOFFSETTO:+0000
TZNAME:UTC
DTSTART:20240101T000000
END:STANDARD
END:VTIMEZONE
BEGIN:VEVENT
DTSTART;TZID=UTC:20251019T100000
DTEND;TZID=UTC:20251019T100000
DTSTAMP:20260423T231232
CREATED:20190912T052404Z
LAST-MODIFIED:20250823T220232Z
UID:1264-1760868000-1760868000@www.allenschapelmbc.com
SUMMARY:139th Church Anniversary
DESCRIPTION:We will be celebrating our Church Anniversary on Sunday\, October 19th during our Morning Worship Service.
URL:https://www.allenschapelmbc.com/event/blabla/
END:VEVENT
END:VCALENDAR